BEGIN:VCALENDAR
VERSION:2.0
PRODID:-//Plone.org//NONSGML plone.app.event//EN
X-WR-TIMEZONE:Europe/Madrid
BEGIN:VEVENT
SUMMARY:Concierto solidario: 25 años DE AFIMOIC
DTSTART;TZID=Europe/Madrid;VALUE=DATE-TIME:20260510T170000
DTEND;TZID=Europe/Madrid;VALUE=DATE-TIME:20260510T180000
DTSTAMP;VALUE=DATE-TIME:20260423T185806Z
UID:141b36001b8c445b940a75e6f74134a5@www.molletvalles.cat
CATEGORIES:Actos diversos
CREATED;VALUE=DATE-TIME:20260423T111956Z
LAST-MODIFIED;VALUE=DATE-TIME:20260423T112236Z
URL:https://www.molletvalles.cat/es/actualidad/agenda/concierto-solidario-
 25-anos-de-afimoic
END:VEVENT
BEGIN:VTIMEZONE
TZID:Europe/Madrid
X-LIC-LOCATION:Europe/Madrid
BEGIN:DAYLIGHT
DTSTART;VALUE=DATE-TIME:20260329T030000
TZNAME:CEST
TZOFFSETFROM:+0100
TZOFFSETTO:+0200
END:DAYLIGHT
END:VTIMEZONE
END:VCALENDAR
