BEGIN:VCALENDAR
VERSION:2.0
PRODID:-//Plone.org//NONSGML plone.app.event//EN
X-WR-TIMEZONE:Europe/Madrid
BEGIN:VEVENT
SUMMARY:Conversación: Cuerpo\, danza y creación con la bailarina molleta
 na Núria Guiu y Esther Freixa
DTSTART;TZID=Europe/Madrid;VALUE=DATE-TIME:20230428T190000
DTEND;TZID=Europe/Madrid;VALUE=DATE-TIME:20230428T200000
DTSTAMP;VALUE=DATE-TIME:20260419T162138Z
UID:4e9d50ac96744413bc7aa082b091ba67@www.molletvalles.cat
CATEGORIES:Artes escénicas
CREATED;VALUE=DATE-TIME:20230425T063305Z
LAST-MODIFIED;VALUE=DATE-TIME:20230425T071259Z
URL:https://www.molletvalles.cat/es/actualidad/agenda/conversacion-cuerpo-
 danza-y-creacion-con-la-bailarina-molletana-nuria-guiu-y-esther-freixa
END:VEVENT
BEGIN:VTIMEZONE
TZID:Europe/Madrid
X-LIC-LOCATION:Europe/Madrid
BEGIN:DAYLIGHT
DTSTART;VALUE=DATE-TIME:20230326T030000
TZNAME:CEST
TZOFFSETFROM:+0100
TZOFFSETTO:+0200
END:DAYLIGHT
END:VTIMEZONE
END:VCALENDAR
