BEGIN:VCALENDAR
VERSION:2.0
PRODID:-//Plone.org//NONSGML plone.app.event//EN
X-WR-TIMEZONE:Europe/Madrid
BEGIN:VEVENT
SUMMARY:Corre Mam Teca y butifarrada (disponible opción vegana). Animaci
 ón musical con "Tirant el band"
DTSTART;TZID=Europe/Madrid;VALUE=DATE-TIME:20240210T173000
DTEND;TZID=Europe/Madrid;VALUE=DATE-TIME:20240210T183000
DTSTAMP;VALUE=DATE-TIME:20260419T162138Z
UID:68ac6194513e47d38f740b35e48101e5@www.molletvalles.cat
CATEGORIES:Fiestas populares
CREATED;VALUE=DATE-TIME:20240124T091908Z
DESCRIPTION:CARNAVAL EN MOLLET
LAST-MODIFIED;VALUE=DATE-TIME:20240208T123819Z
LOCATION:Parque de Les Pruneres
URL:https://www.molletvalles.cat/es/actualidad/agenda/corre-mam-teca-y-but
 ifarrada-disponible-opcion-vegana-animacion-musical-con-tirant-el-band
END:VEVENT
BEGIN:VTIMEZONE
TZID:Europe/Madrid
X-LIC-LOCATION:Europe/Madrid
BEGIN:STANDARD
DTSTART;VALUE=DATE-TIME:20231029T020000
TZNAME:CET
TZOFFSETFROM:+0200
TZOFFSETTO:+0100
END:STANDARD
END:VTIMEZONE
END:VCALENDAR
