BEGIN:VCALENDAR
VERSION:2.0
PRODID:-//Plone.org//NONSGML plone.app.event//EN
X-WR-TIMEZONE:Europe/Madrid
BEGIN:VEVENT
SUMMARY:Criterium del Vallès de ciclismo élite y baches 23
DTSTART;TZID=Europe/Madrid;VALUE=DATE-TIME:20240707T094500
DTEND;TZID=Europe/Madrid;VALUE=DATE-TIME:20240707T104500
DTSTAMP;VALUE=DATE-TIME:20260421T140702Z
UID:0d45bb8b93b24b08ae11a2e274e70f34@www.molletvalles.cat
CATEGORIES:Deportes
CREATED;VALUE=DATE-TIME:20240429T101339Z
LAST-MODIFIED;VALUE=DATE-TIME:20240429T112923Z
LOCATION:Sortida: Av. Llibertat
URL:https://www.molletvalles.cat/es/actualidad/agenda/criterium-del-valles
 -de-ciclismo-elite-y-baches-23
END:VEVENT
BEGIN:VTIMEZONE
TZID:Europe/Madrid
X-LIC-LOCATION:Europe/Madrid
BEGIN:DAYLIGHT
DTSTART;VALUE=DATE-TIME:20240331T030000
TZNAME:CEST
TZOFFSETFROM:+0100
TZOFFSETTO:+0200
END:DAYLIGHT
END:VTIMEZONE
END:VCALENDAR
