BEGIN:VCALENDAR
VERSION:2.0
PRODID:-//Plone.org//NONSGML plone.app.event//EN
X-WR-TIMEZONE:Europe/Madrid
BEGIN:VEVENT
SUMMARY:Cuentacuentos + actividad: La volta al món en 80 dies
DTSTART;TZID=Europe/Madrid;VALUE=DATE-TIME:20231118T180000
DTEND;TZID=Europe/Madrid;VALUE=DATE-TIME:20231118T190000
DTSTAMP;VALUE=DATE-TIME:20260425T134958Z
UID:1180a2ee3baa43a49c07905fb572e845@www.molletvalles.cat
CATEGORIES:Juvenil
CREATED;VALUE=DATE-TIME:20231115T102644Z
LAST-MODIFIED;VALUE=DATE-TIME:20231115T102753Z
LOCATION:Abacus Mollet
URL:https://www.molletvalles.cat/es/actualidad/agenda/cuentacuentos-activi
 dad-la-volta-al-mon-en-80-dies
END:VEVENT
BEGIN:VTIMEZONE
TZID:Europe/Madrid
X-LIC-LOCATION:Europe/Madrid
BEGIN:STANDARD
DTSTART;VALUE=DATE-TIME:20231029T020000
TZNAME:CET
TZOFFSETFROM:+0200
TZOFFSETTO:+0100
END:STANDARD
END:VTIMEZONE
END:VCALENDAR
