BEGIN:VCALENDAR
VERSION:2.0
PRODID:-//Plone.org//NONSGML plone.app.event//EN
X-WR-TIMEZONE:Europe/Madrid
BEGIN:VEVENT
SUMMARY:Curso de Resucitación Cardiopulmonar
DTSTART;TZID=Europe/Madrid;VALUE=DATE-TIME:20251112T163000
DTEND;TZID=Europe/Madrid;VALUE=DATE-TIME:20251112T193000
DTSTAMP;VALUE=DATE-TIME:20260421T135708Z
UID:c5823faec89a409b8f25f394990bd30f@www.molletvalles.cat
CATEGORIES:Cursos y talleres
CREATED;VALUE=DATE-TIME:20251028T092831Z
LAST-MODIFIED;VALUE=DATE-TIME:20251028T092845Z
URL:https://www.molletvalles.cat/es/actualidad/agenda/curso-de-resucitacio
 n-cardiopulmonar
END:VEVENT
BEGIN:VTIMEZONE
TZID:Europe/Madrid
X-LIC-LOCATION:Europe/Madrid
BEGIN:STANDARD
DTSTART;VALUE=DATE-TIME:20251026T020000
TZNAME:CET
TZOFFSETFROM:+0200
TZOFFSETTO:+0100
END:STANDARD
END:VTIMEZONE
END:VCALENDAR
