BEGIN:VCALENDAR
VERSION:2.0
PRODID:-//Plone.org//NONSGML plone.app.event//EN
X-WR-TIMEZONE:Europe/Madrid
BEGIN:VEVENT
SUMMARY:Día del Socio de la entidad Tradicions i Costums
DTSTART;VALUE=DATE:20251005
DTEND;VALUE=DATE:20251006
DTSTAMP;VALUE=DATE-TIME:20260425T140842Z
UID:0644620231b14b6dbcbdb7497852bc1a@www.molletvalles.cat
CATEGORIES:Actos diversos
CREATED;VALUE=DATE-TIME:20250926T082501Z
LAST-MODIFIED;VALUE=DATE-TIME:20251001T062855Z
LOCATION:Iglesia de San Vicente y Parque de Les Pruneres
URL:https://www.molletvalles.cat/es/actualidad/agenda/dia-del-socio-de-la-
 entidad-tradiciones-y-costumbres-1
END:VEVENT
END:VCALENDAR
