BEGIN:VCALENDAR
VERSION:2.0
PRODID:-//Plone.org//NONSGML plone.app.event//EN
X-WR-TIMEZONE:Europe/Madrid
BEGIN:VEVENT
SUMMARY:Día del Socio de la entidad Tradiciones y Costumbres
DTSTART;VALUE=DATE:20241006
DTEND;VALUE=DATE:20241007
DTSTAMP;VALUE=DATE-TIME:20260421T160448Z
UID:16cbe31596a54f8aa619e67e9bc3f88a@www.molletvalles.cat
CREATED;VALUE=DATE-TIME:20240924T091157Z
LAST-MODIFIED;VALUE=DATE-TIME:20240930T075511Z
LOCATION:Iglesia de San Vicente y Parque de Les Pruneres
URL:https://www.molletvalles.cat/es/actualidad/agenda/dia-del-socio-de-la-
 entidad-tradiciones-y-costumbres
END:VEVENT
END:VCALENDAR
