BEGIN:VCALENDAR
VERSION:2.0
PRODID:-//Plone.org//NONSGML plone.app.event//EN
X-WR-TIMEZONE:Europe/Madrid
BEGIN:VEVENT
SUMMARY:DÍA INTERNACIONAL DE LOS MUSEOS: "Mujeres artistas en la Barcelon
 a de principios del siglo"
DTSTART;VALUE=DATE:20230519
DTEND;VALUE=DATE:20230520
DTSTAMP;VALUE=DATE-TIME:20260419T162140Z
UID:06ac35606f224b84bd071f1340814f86@www.molletvalles.cat
CATEGORIES:Exposiciones
CREATED;VALUE=DATE-TIME:20230505T080805Z
LAST-MODIFIED;VALUE=DATE-TIME:20230505T081511Z
URL:https://www.molletvalles.cat/es/actualidad/agenda/dia-internacional-de
 -los-museos-mujeres-artistas-en-la-barcelona-de-principios-del-siglo
END:VEVENT
END:VCALENDAR
