BEGIN:VCALENDAR
VERSION:2.0
PRODID:-//Plone.org//NONSGML plone.app.event//EN
X-WR-TIMEZONE:Europe/Madrid
BEGIN:VEVENT
SUMMARY:DIADA DE ESPIADEMONIOS
DTSTART;VALUE=DATE:20260425
DTEND;VALUE=DATE:20260426
DTSTAMP;VALUE=DATE-TIME:20260422T225242Z
UID:7f659a02c5b94dbf89c51dc1856890c2@www.molletvalles.cat
CATEGORIES:Fiestas populares
CREATED;VALUE=DATE-TIME:20260422T113901Z
LAST-MODIFIED;VALUE=DATE-TIME:20260422T114450Z
LOCATION:Pasacalle: Rambla fiveller hasta Plaza Prat de la Riba/ Invocaci
 ón y correfoc en la Plaza Mayor (delante del Vivari)
URL:https://www.molletvalles.cat/es/actualidad/agenda/diada-de-espiadimoni
 os-1
END:VEVENT
END:VCALENDAR
