BEGIN:VCALENDAR
VERSION:2.0
PRODID:-//Plone.org//NONSGML plone.app.event//EN
X-WR-TIMEZONE:Europe/Madrid
BEGIN:VEVENT
SUMMARY:Dibujadas y diversas. Taller de cómic
DTSTART;TZID=Europe/Madrid;VALUE=DATE-TIME:20240920T190000
DTEND;TZID=Europe/Madrid;VALUE=DATE-TIME:20240920T200000
DTSTAMP;VALUE=DATE-TIME:20260421T183626Z
UID:6e1d04d19b634aab8447098f91b4c4d5@www.molletvalles.cat
CATEGORIES:Cursos y talleres
CREATED;VALUE=DATE-TIME:20240910T102114Z
LAST-MODIFIED;VALUE=DATE-TIME:20240916T085919Z
URL:https://www.molletvalles.cat/es/actualidad/agenda/dibujadas-y-diversas
 -taller-de-comic
END:VEVENT
BEGIN:VTIMEZONE
TZID:Europe/Madrid
X-LIC-LOCATION:Europe/Madrid
BEGIN:DAYLIGHT
DTSTART;VALUE=DATE-TIME:20240331T030000
TZNAME:CEST
TZOFFSETFROM:+0100
TZOFFSETTO:+0200
END:DAYLIGHT
END:VTIMEZONE
END:VCALENDAR
