BEGIN:VCALENDAR
VERSION:2.0
PRODID:-//Plone.org//NONSGML plone.app.event//EN
X-WR-TIMEZONE:Europe/Madrid
BEGIN:VEVENT
SUMMARY:DID 2023: Big Bounce. Colectivo Big Bouncers
DTSTART;TZID=Europe/Madrid;VALUE=DATE-TIME:20230430T180000
DTEND;TZID=Europe/Madrid;VALUE=DATE-TIME:20230430T190000
DTSTAMP;VALUE=DATE-TIME:20260421T140119Z
UID:1ee0063c76b541e59d0a9288218d64cc@www.molletvalles.cat
CATEGORIES:Artes escénicas,Música\, cine y espectáculos
CREATED;VALUE=DATE-TIME:20230126T105931Z
DESCRIPTION:ARTES Y ESCENA
LAST-MODIFIED;VALUE=DATE-TIME:20230403T075046Z
LOCATION:Teatro Can Gomà
URL:https://www.molletvalles.cat/es/actualidad/agenda/did-2023-big-bounce-
 colectivo-big-bouncers
END:VEVENT
BEGIN:VTIMEZONE
TZID:Europe/Madrid
X-LIC-LOCATION:Europe/Madrid
BEGIN:DAYLIGHT
DTSTART;VALUE=DATE-TIME:20230326T030000
TZNAME:CEST
TZOFFSETFROM:+0100
TZOFFSETTO:+0200
END:DAYLIGHT
END:VTIMEZONE
END:VCALENDAR
