BEGIN:VCALENDAR
VERSION:2.0
PRODID:-//Plone.org//NONSGML plone.app.event//EN
X-WR-TIMEZONE:Europe/Madrid
BEGIN:VEVENT
SUMMARY:Directo al Cívico: Actuaciones de Flamsteed y Espejismos (Punk /R
 ock)
DTSTART;TZID=Europe/Madrid;VALUE=DATE-TIME:20240503T213000
DTEND;TZID=Europe/Madrid;VALUE=DATE-TIME:20240503T223000
DTSTAMP;VALUE=DATE-TIME:20260419T221639Z
UID:e34b598974804e149bad7065b319fe4d@www.molletvalles.cat
CATEGORIES:Música
CREATED;VALUE=DATE-TIME:20240422T084212Z
LAST-MODIFIED;VALUE=DATE-TIME:20240422T112045Z
URL:https://www.molletvalles.cat/es/actualidad/agenda/directo-al-civico-ac
 tuaciones-de-flamsteed-y-espejismos-punk-rock
END:VEVENT
BEGIN:VTIMEZONE
TZID:Europe/Madrid
X-LIC-LOCATION:Europe/Madrid
BEGIN:DAYLIGHT
DTSTART;VALUE=DATE-TIME:20240331T030000
TZNAME:CEST
TZOFFSETFROM:+0100
TZOFFSETTO:+0200
END:DAYLIGHT
END:VTIMEZONE
END:VCALENDAR
