BEGIN:VCALENDAR
VERSION:2.0
PRODID:-//Plone.org//NONSGML plone.app.event//EN
X-WR-TIMEZONE:Europe/Madrid
BEGIN:VEVENT
SUMMARY:Discoteca para pequeños y mayores
DTSTART;TZID=Europe/Madrid;VALUE=DATE-TIME:20231124T173000
DTEND;TZID=Europe/Madrid;VALUE=DATE-TIME:20231124T183000
DTSTAMP;VALUE=DATE-TIME:20260421T135359Z
UID:ab0deff643ee47da98290b6453f81b9e@www.molletvalles.cat
CATEGORIES:Música
CREATED;VALUE=DATE-TIME:20231031T113025Z
LAST-MODIFIED;VALUE=DATE-TIME:20231031T114420Z
URL:https://www.molletvalles.cat/es/actualidad/agenda/discoteca-para-peque
 nos-y-mayores-6
END:VEVENT
BEGIN:VTIMEZONE
TZID:Europe/Madrid
X-LIC-LOCATION:Europe/Madrid
BEGIN:STANDARD
DTSTART;VALUE=DATE-TIME:20231029T020000
TZNAME:CET
TZOFFSETFROM:+0200
TZOFFSETTO:+0100
END:STANDARD
END:VTIMEZONE
END:VCALENDAR
