BEGIN:VCALENDAR
VERSION:2.0
PRODID:-//Plone.org//NONSGML plone.app.event//EN
X-WR-TIMEZONE:Europe/Madrid
BEGIN:VEVENT
SUMMARY:Doble sesión de cine infantil y familiar al aire libre: "El 47" (
 Catalán-Castellano\, 110 min) "Bitelchús" (Castellano\,104 min)
DTSTART;TZID=Europe/Madrid;VALUE=DATE-TIME:20250817T213000
DTEND;TZID=Europe/Madrid;VALUE=DATE-TIME:20250817T234500
DTSTAMP;VALUE=DATE-TIME:20260419T162129Z
UID:8cea43d7c54f4e1587b372bd7dae6cea@www.molletvalles.cat
CATEGORIES:Cine,Turismo
CREATED;VALUE=DATE-TIME:20250731T065705Z
DESCRIPTION:FIESTA MAYOR 2025
LAST-MODIFIED;VALUE=DATE-TIME:20250731T112847Z
LOCATION:Parque de Les Pruneres
URL:https://www.molletvalles.cat/es/actualidad/agenda/doble-sesion-de-cine
 -infantil-y-familiar-al-aire-libre-el-47-catalan-castellano-110-min-bitelc
 hus-castellano-104-min
END:VEVENT
BEGIN:VTIMEZONE
TZID:Europe/Madrid
X-LIC-LOCATION:Europe/Madrid
BEGIN:DAYLIGHT
DTSTART;VALUE=DATE-TIME:20250330T030000
TZNAME:CEST
TZOFFSETFROM:+0100
TZOFFSETTO:+0200
END:DAYLIGHT
END:VTIMEZONE
END:VCALENDAR
