BEGIN:VCALENDAR
VERSION:2.0
PRODID:-//Plone.org//NONSGML plone.app.event//EN
X-WR-TIMEZONE:Europe/Madrid
BEGIN:VEVENT
SUMMARY:Doble sesión de cine infantil y familiar al aire libre: Super Mar
 io Bros (Español) y Cazafantasmas - Imperio Helado -(Castellano)
DTSTART;TZID=Europe/Madrid;VALUE=DATE-TIME:20240818T213000
DTEND;TZID=Europe/Madrid;VALUE=DATE-TIME:20240818T223000
DTSTAMP;VALUE=DATE-TIME:20260419T162303Z
UID:e590daaef07b4a9cbad7a8e0a716f688@www.molletvalles.cat
CATEGORIES:Cine
CREATED;VALUE=DATE-TIME:20240729T095605Z
DESCRIPTION:FIESTA MAYOR 2024
LAST-MODIFIED;VALUE=DATE-TIME:20240729T104046Z
LOCATION:Parque de Les Pruneres
URL:https://www.molletvalles.cat/es/actualidad/agenda/doble-sesion-de-cine
 -infantil-y-familiar-al-aire-libre-super-mario-bros-espanol-y-cazafantasma
 s-imperio-helado-castellano
END:VEVENT
BEGIN:VTIMEZONE
TZID:Europe/Madrid
X-LIC-LOCATION:Europe/Madrid
BEGIN:DAYLIGHT
DTSTART;VALUE=DATE-TIME:20240331T030000
TZNAME:CEST
TZOFFSETFROM:+0100
TZOFFSETTO:+0200
END:DAYLIGHT
END:VTIMEZONE
END:VCALENDAR
