BEGIN:VCALENDAR
VERSION:2.0
PRODID:-//Plone.org//NONSGML plone.app.event//EN
X-WR-TIMEZONE:Europe/Madrid
BEGIN:VEVENT
SUMMARY:EL ARLEQUÍN: Actuación de JESSICA ARPIN (Circo\, Comedia\, Poes
 ía)
DTSTART;TZID=Europe/Madrid;VALUE=DATE-TIME:20240601T200000
DTEND;TZID=Europe/Madrid;VALUE=DATE-TIME:20240601T210000
DTSTAMP;VALUE=DATE-TIME:20260421T160349Z
UID:5402892c8067413da4e8e6da1407718a@www.molletvalles.cat
CATEGORIES:Artes escénicas
CREATED;VALUE=DATE-TIME:20240521T123802Z
DESCRIPTION:VI FESTIVAL ARTÍSTICO INTERNACIONAL 2024
LAST-MODIFIED;VALUE=DATE-TIME:20240527T071635Z
LOCATION:Parque de Les Pruneres
URL:https://www.molletvalles.cat/es/actualidad/agenda/el-arlequin-actuacio
 n-de-jessica-arpin-circo-comedia-poesia
END:VEVENT
BEGIN:VTIMEZONE
TZID:Europe/Madrid
X-LIC-LOCATION:Europe/Madrid
BEGIN:DAYLIGHT
DTSTART;VALUE=DATE-TIME:20240331T030000
TZNAME:CEST
TZOFFSETFROM:+0100
TZOFFSETTO:+0200
END:DAYLIGHT
END:VTIMEZONE
END:VCALENDAR
