BEGIN:VCALENDAR
VERSION:2.0
PRODID:-//Plone.org//NONSGML plone.app.event//EN
X-WR-TIMEZONE:Europe/Madrid
BEGIN:VEVENT
SUMMARY:El Baile del Fanalet
DTSTART;TZID=Europe/Madrid;VALUE=DATE-TIME:20240821T000000
DTEND;TZID=Europe/Madrid;VALUE=DATE-TIME:20240821T010000
DTSTAMP;VALUE=DATE-TIME:20260421T135645Z
UID:fe964dd7de9f4d31976bc3569876ff8a@www.molletvalles.cat
CATEGORIES:Baile
CREATED;VALUE=DATE-TIME:20240731T115549Z
DESCRIPTION:FIESTA MAYOR 2024
LAST-MODIFIED;VALUE=DATE-TIME:20240801T061739Z
LOCATION:Carpa
URL:https://www.molletvalles.cat/es/actualidad/agenda/el-baile-del-fanalet
 -1
END:VEVENT
BEGIN:VTIMEZONE
TZID:Europe/Madrid
X-LIC-LOCATION:Europe/Madrid
BEGIN:DAYLIGHT
DTSTART;VALUE=DATE-TIME:20240331T030000
TZNAME:CEST
TZOFFSETFROM:+0100
TZOFFSETTO:+0200
END:DAYLIGHT
END:VTIMEZONE
END:VCALENDAR
