BEGIN:VCALENDAR
VERSION:2.0
PRODID:-//Plone.org//NONSGML plone.app.event//EN
X-WR-TIMEZONE:Europe/Madrid
BEGIN:VEVENT
SUMMARY:El Museo sale a la calle
DTSTART;VALUE=DATE:20240518
DTEND;VALUE=DATE:20240519
DTSTAMP;VALUE=DATE-TIME:20260421T135817Z
UID:1995f7ece5374138b576e72c5bc5969f@www.molletvalles.cat
CATEGORIES:Actos diversos
CREATED;VALUE=DATE-TIME:20240507T121809Z
DESCRIPTION:LA NOCHE DE LOS MUSEOS
LAST-MODIFIED;VALUE=DATE-TIME:20240507T130936Z
URL:https://www.molletvalles.cat/es/actualidad/agenda/el-museo-sale-a-la-c
 alle
END:VEVENT
END:VCALENDAR
