BEGIN:VCALENDAR
VERSION:2.0
PRODID:-//Plone.org//NONSGML plone.app.event//EN
X-WR-TIMEZONE:Europe/Madrid
BEGIN:VEVENT
SUMMARY:Emisión especial de San Jordi. Radio Mollet
DTSTART;VALUE=DATE:20260423
DTEND;VALUE=DATE:20260424
DTSTAMP;VALUE=DATE-TIME:20260421T032125Z
UID:87b01c0cb4904908aa5039ee3e13c0bd@www.molletvalles.cat
CATEGORIES:Actos diversos
CREATED;VALUE=DATE-TIME:20260420T101132Z
DESCRIPTION:SANT JORDI 2026
LAST-MODIFIED;VALUE=DATE-TIME:20260420T120741Z
LOCATION:Parque de Les Pruneres
URL:https://www.molletvalles.cat/es/actualidad/agenda/emision-especial-de-
 san-jordi-radio-mollet
END:VEVENT
END:VCALENDAR
