BEGIN:VCALENDAR
VERSION:2.0
PRODID:-//Plone.org//NONSGML plone.app.event//EN
X-WR-TIMEZONE:Europe/Madrid
BEGIN:VEVENT
SUMMARY:Emisión especial de Sant Jordi. Vallès Visión
DTSTART;VALUE=DATE:20260423
DTEND;VALUE=DATE:20260424
DTSTAMP;VALUE=DATE-TIME:20260421T032054Z
UID:99a1a4cb04f84ad29eb6f906c7d927a2@www.molletvalles.cat
CATEGORIES:Actos diversos
CREATED;VALUE=DATE-TIME:20260420T110808Z
DESCRIPTION:SANT JORDI 2026
LAST-MODIFIED;VALUE=DATE-TIME:20260420T120843Z
URL:https://www.molletvalles.cat/es/actualidad/agenda/emision-especial-de-
 sant-jordi-valles-vision
END:VEVENT
END:VCALENDAR
