BEGIN:VCALENDAR
VERSION:2.0
PRODID:-//Plone.org//NONSGML plone.app.event//EN
X-WR-TIMEZONE:Europe/Madrid
BEGIN:VEVENT
SUMMARY:Encendido de las luces de Navidad. Villancicos a cargo del grupo d
 e música del Estonnac
DTSTART;TZID=Europe/Madrid;VALUE=DATE-TIME:20231201T173000
DTEND;TZID=Europe/Madrid;VALUE=DATE-TIME:20231201T183000
DTSTAMP;VALUE=DATE-TIME:20260421T175343Z
UID:4f363764460b4c13a5334bf9af28029b@www.molletvalles.cat
CATEGORIES:Actos de ciudad
CREATED;VALUE=DATE-TIME:20231128T091112Z
LAST-MODIFIED;VALUE=DATE-TIME:20231128T131743Z
LOCATION:C. Barcelona - Rambla Balmes (4 bancos)
URL:https://www.molletvalles.cat/es/actualidad/agenda/encendido-de-las-luc
 es-de-navidad-villancicos-a-cargo-del-grupo-de-musica-del-estonnac
END:VEVENT
BEGIN:VTIMEZONE
TZID:Europe/Madrid
X-LIC-LOCATION:Europe/Madrid
BEGIN:STANDARD
DTSTART;VALUE=DATE-TIME:20231029T020000
TZNAME:CET
TZOFFSETFROM:+0200
TZOFFSETTO:+0100
END:STANDARD
END:VTIMEZONE
END:VCALENDAR
