BEGIN:VCALENDAR
VERSION:2.0
PRODID:-//Plone.org//NONSGML plone.app.event//EN
X-WR-TIMEZONE:Europe/Madrid
BEGIN:VEVENT
SUMMARY:Encendido de luces de Navidad en Can Borrell
DTSTART;TZID=Europe/Madrid;VALUE=DATE-TIME:20231201T180000
DTEND;TZID=Europe/Madrid;VALUE=DATE-TIME:20231201T190000
DTSTAMP;VALUE=DATE-TIME:20260421T135543Z
UID:f4c416175abb4e6abf8a01ea7fc637ec@www.molletvalles.cat
CATEGORIES:Actos de ciudad
CREATED;VALUE=DATE-TIME:20231128T091805Z
LAST-MODIFIED;VALUE=DATE-TIME:20231128T091818Z
LOCATION:Can Borrell
URL:https://www.molletvalles.cat/es/actualidad/agenda/encendido-de-luces-d
 e-navidad-en-can-borrell
END:VEVENT
BEGIN:VTIMEZONE
TZID:Europe/Madrid
X-LIC-LOCATION:Europe/Madrid
BEGIN:STANDARD
DTSTART;VALUE=DATE-TIME:20231029T020000
TZNAME:CET
TZOFFSETFROM:+0200
TZOFFSETTO:+0100
END:STANDARD
END:VTIMEZONE
END:VCALENDAR
