BEGIN:VCALENDAR
VERSION:2.0
PRODID:-//Plone.org//NONSGML plone.app.event//EN
X-WR-TIMEZONE:Europe/Madrid
BEGIN:VEVENT
SUMMARY:Encendido del árbol de la AV de Estació de França y visita al p
 esebre de goma eva
DTSTART;TZID=Europe/Madrid;VALUE=DATE-TIME:20251128T193000
DTEND;TZID=Europe/Madrid;VALUE=DATE-TIME:20251128T203000
DTSTAMP;VALUE=DATE-TIME:20260419T223118Z
UID:dab1f8d5a2704569af6a7f17a76ed41e@www.molletvalles.cat
CATEGORIES:Actos diversos
CREATED;VALUE=DATE-TIME:20251128T120120Z
LAST-MODIFIED;VALUE=DATE-TIME:20251128T120235Z
LOCATION:C. Francesc Macià\, 70
URL:https://www.molletvalles.cat/es/actualidad/agenda/encendido-del-arbol-
 de-la-av-de-estacio-de-franca-y-visita-al-pesebre-de-goma-eva
END:VEVENT
BEGIN:VTIMEZONE
TZID:Europe/Madrid
X-LIC-LOCATION:Europe/Madrid
BEGIN:STANDARD
DTSTART;VALUE=DATE-TIME:20251026T020000
TZNAME:CET
TZOFFSETFROM:+0200
TZOFFSETTO:+0100
END:STANDARD
END:VTIMEZONE
END:VCALENDAR
