BEGIN:VCALENDAR
VERSION:2.0
PRODID:-//Plone.org//NONSGML plone.app.event//EN
X-WR-TIMEZONE:Europe/Madrid
BEGIN:VEVENT
SUMMARY:ENCUENTRO DE URBAN SKETCHERS
DTSTART;VALUE=DATE:20240727
DTEND;VALUE=DATE:20240729
DTSTAMP;VALUE=DATE-TIME:20260421T135751Z
UID:b71e035b2e894ff0982c2c1a6891eefe@www.molletvalles.cat
CREATED;VALUE=DATE-TIME:20240726T063958Z
LAST-MODIFIED;VALUE=DATE-TIME:20240726T064136Z
LOCATION:La Casa del PIntor Abelló
URL:https://www.molletvalles.cat/es/actualidad/agenda/encuentro-de-urban-s
 ketchers
END:VEVENT
END:VCALENDAR
