BEGIN:VCALENDAR
VERSION:2.0
PRODID:-//Plone.org//NONSGML plone.app.event//EN
X-WR-TIMEZONE:Europe/Madrid
BEGIN:VEVENT
SUMMARY:ENCUENTRO DELS "GEGANTS D'ESCOLA" Y ESPLAI DE MOLLET
DTSTART;VALUE=DATE:20250524
DTEND;VALUE=DATE:20250525
DTSTAMP;VALUE=DATE-TIME:20260421T140549Z
UID:b537ecbe567c4d9fafac32a6aa0254f1@www.molletvalles.cat
CATEGORIES:Fiestas populares
CREATED;VALUE=DATE-TIME:20250512T114503Z
LAST-MODIFIED;VALUE=DATE-TIME:20250513T061240Z
LOCATION:Plaza de la Artesanía
URL:https://www.molletvalles.cat/es/actualidad/agenda/encuentro-dels-gegan
 ts-descola-y-esplai-de-mollet
END:VEVENT
END:VCALENDAR
