BEGIN:VCALENDAR
VERSION:2.0
PRODID:-//Plone.org//NONSGML plone.app.event//EN
X-WR-TIMEZONE:Europe/Madrid
BEGIN:VEVENT
SUMMARY:XXXII Diada Castellera: Ensayo especial "camisas molonas" de los C
 astellers de Mollet
DTSTART;TZID=Europe/Madrid;VALUE=DATE-TIME:20241024T200000
DTEND;TZID=Europe/Madrid;VALUE=DATE-TIME:20241024T210000
DTSTAMP;VALUE=DATE-TIME:20260421T140510Z
UID:8ca6e156c84f41a19c4f1e82f1e15379@www.molletvalles.cat
CATEGORIES:Fiestas populares
CREATED;VALUE=DATE-TIME:20241014T092548Z
LAST-MODIFIED;VALUE=DATE-TIME:20241016T110017Z
URL:https://www.molletvalles.cat/es/actualidad/agenda/ensayo-especial-cami
 sas-molonas-de-los-castellers-de-mollet
END:VEVENT
BEGIN:VTIMEZONE
TZID:Europe/Madrid
X-LIC-LOCATION:Europe/Madrid
BEGIN:DAYLIGHT
DTSTART;VALUE=DATE-TIME:20240331T030000
TZNAME:CEST
TZOFFSETFROM:+0100
TZOFFSETTO:+0200
END:DAYLIGHT
END:VTIMEZONE
END:VCALENDAR
