BEGIN:VCALENDAR
VERSION:2.0
PRODID:-//Plone.org//NONSGML plone.app.event//EN
X-WR-TIMEZONE:Europe/Madrid
BEGIN:VEVENT
SUMMARY:Entrega de los premios a los mejores microrrelatos de terror de la
  14ª edición del Concurso de Microrrelatos de Terror que organiza la Bib
 lioteca
DTSTART;TZID=Europe/Madrid;VALUE=DATE-TIME:20251115T120000
DTEND;TZID=Europe/Madrid;VALUE=DATE-TIME:20251115T130000
DTSTAMP;VALUE=DATE-TIME:20260419T162133Z
UID:804fcd24221b4d1b86500527c4b2e2aa@www.molletvalles.cat
CATEGORIES:Actos diversos
CREATED;VALUE=DATE-TIME:20251103T085557Z
LAST-MODIFIED;VALUE=DATE-TIME:20251103T102151Z
URL:https://www.molletvalles.cat/es/actualidad/agenda/entrega-de-los-premi
 os-a-los-mejores-microrrelatos-de-terror-de-la-14a-edicion-del-concurso-de
 -microrrelatos-de-terror-que-organiza-la-biblioteca
END:VEVENT
BEGIN:VTIMEZONE
TZID:Europe/Madrid
X-LIC-LOCATION:Europe/Madrid
BEGIN:STANDARD
DTSTART;VALUE=DATE-TIME:20251026T020000
TZNAME:CET
TZOFFSETFROM:+0200
TZOFFSETTO:+0100
END:STANDARD
END:VTIMEZONE
END:VCALENDAR
