BEGIN:VCALENDAR
VERSION:2.0
PRODID:-//Plone.org//NONSGML plone.app.event//EN
X-WR-TIMEZONE:Europe/Madrid
BEGIN:VEVENT
SUMMARY:Entrega de premios del 34 Certamen Literario de Sant Jordi
DTSTART;TZID=Europe/Madrid;VALUE=DATE-TIME:20260523T120000
DTEND;TZID=Europe/Madrid;VALUE=DATE-TIME:20260523T130000
DTSTAMP;VALUE=DATE-TIME:20260425T140347Z
UID:3728656fb10c4db3bd6dcd88469d0368@www.molletvalles.cat
CATEGORIES:Actos diversos
CREATED;VALUE=DATE-TIME:20260421T073333Z
LAST-MODIFIED;VALUE=DATE-TIME:20260422T093006Z
URL:https://www.molletvalles.cat/es/actualidad/agenda/entrega-de-premios-d
 el-34-certamen-literario-de-sant-jordi
END:VEVENT
BEGIN:VTIMEZONE
TZID:Europe/Madrid
X-LIC-LOCATION:Europe/Madrid
BEGIN:DAYLIGHT
DTSTART;VALUE=DATE-TIME:20260329T030000
TZNAME:CEST
TZOFFSETFROM:+0100
TZOFFSETTO:+0200
END:DAYLIGHT
END:VTIMEZONE
END:VCALENDAR
