BEGIN:VCALENDAR
VERSION:2.0
PRODID:-//Plone.org//NONSGML plone.app.event//EN
X-WR-TIMEZONE:Europe/Madrid
BEGIN:VEVENT
SUMMARY:Entrega de premios del XXXI Certamen Literario de Sant Jordi
DTSTART;TZID=Europe/Madrid;VALUE=DATE-TIME:20230513T120000
DTEND;TZID=Europe/Madrid;VALUE=DATE-TIME:20230513T130000
DTSTAMP;VALUE=DATE-TIME:20260419T162450Z
UID:a6ee27072711466f81a8550e0ad29645@www.molletvalles.cat
CATEGORIES:Actos diversos,Concursos y premios
CREATED;VALUE=DATE-TIME:20230404T081110Z
DESCRIPTION:SANT JORDI 2023
LAST-MODIFIED;VALUE=DATE-TIME:20230417T071139Z
URL:https://www.molletvalles.cat/es/actualidad/agenda/entrega-de-premios-d
 el-xxxi-certamen-literario-de-prosa-y-poesia-sant-jordi-2023
END:VEVENT
BEGIN:VTIMEZONE
TZID:Europe/Madrid
X-LIC-LOCATION:Europe/Madrid
BEGIN:DAYLIGHT
DTSTART;VALUE=DATE-TIME:20230326T030000
TZNAME:CEST
TZOFFSETFROM:+0100
TZOFFSETTO:+0200
END:DAYLIGHT
END:VTIMEZONE
END:VCALENDAR
