BEGIN:VCALENDAR
VERSION:2.0
PRODID:-//Plone.org//NONSGML plone.app.event//EN
X-WR-TIMEZONE:Europe/Madrid
BEGIN:VEVENT
SUMMARY:Entrega de premios del XXXIII Certamen Literario de Sant Jordi
DTSTART;TZID=Europe/Madrid;VALUE=DATE-TIME:20250607T120000
DTEND;TZID=Europe/Madrid;VALUE=DATE-TIME:20250607T152500
DTSTAMP;VALUE=DATE-TIME:20260419T223104Z
UID:0d0d3436aa1445b1b459698c0edc24f6@www.molletvalles.cat
CATEGORIES:Actos diversos
CREATED;VALUE=DATE-TIME:20250408T094209Z
LAST-MODIFIED;VALUE=DATE-TIME:20250529T084733Z
URL:https://www.molletvalles.cat/es/actualidad/agenda/entrega-de-premios-d
 el-xxxiii-certamen-literario-de-sant-jordi
END:VEVENT
BEGIN:VTIMEZONE
TZID:Europe/Madrid
X-LIC-LOCATION:Europe/Madrid
BEGIN:DAYLIGHT
DTSTART;VALUE=DATE-TIME:20250330T030000
TZNAME:CEST
TZOFFSETFROM:+0100
TZOFFSETTO:+0200
END:DAYLIGHT
END:VTIMEZONE
END:VCALENDAR
