BEGIN:VCALENDAR
VERSION:2.0
PRODID:-//Plone.org//NONSGML plone.app.event//EN
X-WR-TIMEZONE:Europe/Madrid
BEGIN:VEVENT
SUMMARY:Entrega del XXVI Premio Juvenil Vicenç Plantada y de la X Beca de
  Investigación Vicenç Plantada
DTSTART;TZID=Europe/Madrid;VALUE=DATE-TIME:20251104T180000
DTEND;TZID=Europe/Madrid;VALUE=DATE-TIME:20251104T190000
DTSTAMP;VALUE=DATE-TIME:20260419T162443Z
UID:2ee3de51dc43433982006682068c5dd0@www.molletvalles.cat
CATEGORIES:Actos diversos,Charlas
CREATED;VALUE=DATE-TIME:20251029T083500Z
LAST-MODIFIED;VALUE=DATE-TIME:20251029T083622Z
LOCATION:Sala de plenos de la Casa de la Vila (pl. Major\, 1 )
URL:https://www.molletvalles.cat/es/actualidad/agenda/entrega-del-xxvi-pre
 mio-juvenil-vicenc-plantada-y-de-la-x-beca-de-investigacion-vicenc-plantad
 a
END:VEVENT
BEGIN:VTIMEZONE
TZID:Europe/Madrid
X-LIC-LOCATION:Europe/Madrid
BEGIN:STANDARD
DTSTART;VALUE=DATE-TIME:20251026T020000
TZNAME:CET
TZOFFSETFROM:+0200
TZOFFSETTO:+0100
END:STANDARD
END:VTIMEZONE
END:VCALENDAR
