BEGIN:VCALENDAR
VERSION:2.0
PRODID:-//Plone.org//NONSGML plone.app.event//EN
X-WR-TIMEZONE:Europe/Madrid
BEGIN:VEVENT
SUMMARY:Espacio literario molletà
DTSTART;VALUE=DATE:20260423
DTEND;VALUE=DATE:20260424
DTSTAMP;VALUE=DATE-TIME:20260421T031925Z
UID:4d10994cbe5c44868e023e46aec08459@www.molletvalles.cat
CATEGORIES:Fiestas populares
CREATED;VALUE=DATE-TIME:20260420T105424Z
DESCRIPTION:SANT JORDI 2026
LAST-MODIFIED;VALUE=DATE-TIME:20260420T121339Z
LOCATION:Parque de Les Pruneres
URL:https://www.molletvalles.cat/es/actualidad/agenda/espacio-literario-mo
 lleta
END:VEVENT
END:VCALENDAR
