BEGIN:VCALENDAR
VERSION:2.0
PRODID:-//Plone.org//NONSGML plone.app.event//EN
X-WR-TIMEZONE:Europe/Madrid
BEGIN:VEVENT
SUMMARY:Espectáculo de Playback Pre Navidad 2025\, a cargo de la Asociaci
 ón de Jubilados y Pensionistas de Can Pantiquet
DTSTART;TZID=Europe/Madrid;VALUE=DATE-TIME:20251124T173000
DTEND;TZID=Europe/Madrid;VALUE=DATE-TIME:20251124T200000
DTSTAMP;VALUE=DATE-TIME:20260419T162012Z
UID:e2c32104001f439a9623b412bcbf7c8e@www.molletvalles.cat
CATEGORIES:Artes escénicas
CREATED;VALUE=DATE-TIME:20251029T125551Z
LAST-MODIFIED;VALUE=DATE-TIME:20251029T133306Z
URL:https://www.molletvalles.cat/es/actualidad/agenda/espectaculo-de-playb
 ack-pre-navidad-2025-a-cargo-de-la-asociacion-de-jubilados-y-pensionistas-
 de-can-pantiquet
END:VEVENT
BEGIN:VTIMEZONE
TZID:Europe/Madrid
X-LIC-LOCATION:Europe/Madrid
BEGIN:STANDARD
DTSTART;VALUE=DATE-TIME:20251026T020000
TZNAME:CET
TZOFFSETFROM:+0200
TZOFFSETTO:+0100
END:STANDARD
END:VTIMEZONE
END:VCALENDAR
