BEGIN:VCALENDAR
VERSION:2.0
PRODID:-//Plone.org//NONSGML plone.app.event//EN
X-WR-TIMEZONE:Europe/Madrid
BEGIN:VEVENT
SUMMARY:Espectáculo: La ratita presumida\, a cargo de la Cía Titiriteros
  de Binéfar
DTSTART;TZID=Europe/Madrid;VALUE=DATE-TIME:20250412T180000
DTEND;TZID=Europe/Madrid;VALUE=DATE-TIME:20250412T190000
DTSTAMP;VALUE=DATE-TIME:20260425T125444Z
UID:3bc94ae27be746ddb7407198fa5be5aa@www.molletvalles.cat
CATEGORIES:Artes escénicas,Turismo
CREATED;VALUE=DATE-TIME:20250402T125717Z
DESCRIPTION:MITMO 2025
LAST-MODIFIED;VALUE=DATE-TIME:20250403T113103Z
LOCATION:Sala Fiveller
URL:https://www.molletvalles.cat/es/actualidad/agenda/espectaculo-la-ratit
 a-presumida-a-cargo-de-la-cia-titiriteros-de-binefar
END:VEVENT
BEGIN:VTIMEZONE
TZID:Europe/Madrid
X-LIC-LOCATION:Europe/Madrid
BEGIN:DAYLIGHT
DTSTART;VALUE=DATE-TIME:20250330T030000
TZNAME:CEST
TZOFFSETFROM:+0100
TZOFFSETTO:+0200
END:DAYLIGHT
END:VTIMEZONE
END:VCALENDAR
