BEGIN:VCALENDAR
VERSION:2.0
PRODID:-//Plone.org//NONSGML plone.app.event//EN
X-WR-TIMEZONE:Europe/Madrid
BEGIN:VEVENT
SUMMARY:Espectáculo: "Música y estrellas"\, del grupo de playback de la 
 Asociación de Jubilados y Pensionistas de Can Pantiquet
DTSTART;TZID=Europe/Madrid;VALUE=DATE-TIME:20240514T173000
DTEND;TZID=Europe/Madrid;VALUE=DATE-TIME:20240514T183000
DTSTAMP;VALUE=DATE-TIME:20260421T192054Z
UID:e1175a2d86f540e8a9ff474c57885a3a@www.molletvalles.cat
CATEGORIES:Espectáculo
CREATED;VALUE=DATE-TIME:20240325T123527Z
DESCRIPTION:POR MUCHOS AÑOS 2024
LAST-MODIFIED;VALUE=DATE-TIME:20240326T120246Z
URL:https://www.molletvalles.cat/es/actualidad/agenda/espectaculo-musica-y
 -estrellas-del-grupo-de-playback-de-la-asociacion-de-jubilados-y-pensionis
 tas-de-can-pantiquet
END:VEVENT
BEGIN:VTIMEZONE
TZID:Europe/Madrid
X-LIC-LOCATION:Europe/Madrid
BEGIN:DAYLIGHT
DTSTART;VALUE=DATE-TIME:20240331T030000
TZNAME:CEST
TZOFFSETFROM:+0100
TZOFFSETTO:+0200
END:DAYLIGHT
END:VTIMEZONE
END:VCALENDAR
