BEGIN:VCALENDAR
VERSION:2.0
PRODID:-//Plone.org//NONSGML plone.app.event//EN
X-WR-TIMEZONE:Europe/Madrid
BEGIN:VEVENT
SUMMARY:Espectáculo participativo "ELS PASTORETS de pa sucat amb oli"
DTSTART;TZID=Europe/Madrid;VALUE=DATE-TIME:20231210T180000
DTEND;TZID=Europe/Madrid;VALUE=DATE-TIME:20231210T190000
DTSTAMP;VALUE=DATE-TIME:20260421T140434Z
UID:129f40624f2745e1a8d0482354304653@www.molletvalles.cat
CATEGORIES:Artes escenicas
CREATED;VALUE=DATE-TIME:20231204T084630Z
LAST-MODIFIED;VALUE=DATE-TIME:20231204T084655Z
LOCATION:Sala Fiveller
URL:https://www.molletvalles.cat/es/actualidad/agenda/espectaculo-particip
 ativo-els-pastorets-de-pa-sucat-amb-oli
END:VEVENT
BEGIN:VTIMEZONE
TZID:Europe/Madrid
X-LIC-LOCATION:Europe/Madrid
BEGIN:STANDARD
DTSTART;VALUE=DATE-TIME:20231029T020000
TZNAME:CET
TZOFFSETFROM:+0200
TZOFFSETTO:+0100
END:STANDARD
END:VTIMEZONE
END:VCALENDAR
