BEGIN:VCALENDAR
VERSION:2.0
PRODID:-//Plone.org//NONSGML plone.app.event//EN
X-WR-TIMEZONE:Europe/Madrid
BEGIN:VEVENT
SUMMARY:"Estación de Francia\, relatos y vivencias de un barrio"\, paseo 
 guiado y presentación de "El relat de l'Ona"\, con protagonistas del barr
 io
DTSTART;TZID=Europe/Madrid;VALUE=DATE-TIME:20241117T103000
DTEND;TZID=Europe/Madrid;VALUE=DATE-TIME:20241117T113000
DTSTAMP;VALUE=DATE-TIME:20260419T223117Z
UID:7e55461d3b1f497db2e8ec6fb0077349@www.molletvalles.cat
CATEGORIES:Charlas,Actos diversos
CREATED;VALUE=DATE-TIME:20241029T071739Z
DESCRIPTION:XXV Jornadas del Centre d’Estudis Molletans: Próxima estaci
 ón\, Mollet
LAST-MODIFIED;VALUE=DATE-TIME:20241029T071751Z
URL:https://www.molletvalles.cat/es/actualidad/agenda/estacion-de-francia-
 relatos-y-vivencias-de-un-barrio-paseo-guiado-y-presentacion-de-el-relat-d
 e-lona-con-protagonistas-del-barrio
END:VEVENT
BEGIN:VTIMEZONE
TZID:Europe/Madrid
X-LIC-LOCATION:Europe/Madrid
BEGIN:STANDARD
DTSTART;VALUE=DATE-TIME:20241027T020000
TZNAME:CET
TZOFFSETFROM:+0200
TZOFFSETTO:+0100
END:STANDARD
END:VTIMEZONE
END:VCALENDAR
