BEGIN:VCALENDAR
VERSION:2.0
PRODID:-//Plone.org//NONSGML plone.app.event//EN
X-WR-TIMEZONE:Europe/Madrid
BEGIN:VEVENT
SUMMARY:Exposición: “ReHabilitem”
DTSTART;VALUE=DATE:20250520
DTEND;VALUE=DATE:20250606
DTSTAMP;VALUE=DATE-TIME:20260423T123032Z
UID:01446934b23b46f29ec5e1903cf066f2@www.molletvalles.cat
CATEGORIES:Exposiciones
CREATED;VALUE=DATE-TIME:20250507T090201Z
LAST-MODIFIED;VALUE=DATE-TIME:20250513T055045Z
URL:https://www.molletvalles.cat/es/actualidad/agenda/exposicion-201crehab
 ilitem201d
END:VEVENT
END:VCALENDAR
