BEGIN:VCALENDAR
VERSION:2.0
PRODID:-//Plone.org//NONSGML plone.app.event//EN
X-WR-TIMEZONE:Europe/Madrid
BEGIN:VEVENT
SUMMARY:Exposición : Amor que cura las heridas
DTSTART;VALUE=DATE:20240524
DTEND;VALUE=DATE:20240622
DTSTAMP;VALUE=DATE-TIME:20260419T221639Z
UID:89b3b7582b22417e815572663f858ea9@www.molletvalles.cat
CATEGORIES:Exposiciones
CREATED;VALUE=DATE-TIME:20240201T085513Z
DESCRIPTION:EXPOSICIONES EN FEMENINO
LAST-MODIFIED;VALUE=DATE-TIME:20240611T075748Z
URL:https://www.molletvalles.cat/es/actualidad/agenda/exposicion-con-motiv
 o-del-dia-internacional-de-accion-para-la-salud-de-las-mujeres
END:VEVENT
END:VCALENDAR
