BEGIN:VCALENDAR
VERSION:2.0
PRODID:-//Plone.org//NONSGML plone.app.event//EN
X-WR-TIMEZONE:Europe/Madrid
BEGIN:VEVENT
SUMMARY:Exposición en Femenino: "Mollet\, ¡enlíate! Pintando un futuro 
 feminista"
DTSTART;VALUE=DATE:20241004
DTEND;VALUE=DATE:20241109
DTSTAMP;VALUE=DATE-TIME:20260419T170408Z
UID:8099778a32684d20b34963bb9d5e470d@www.molletvalles.cat
CATEGORIES:Exposiciones
CREATED;VALUE=DATE-TIME:20241004T113008Z
LAST-MODIFIED;VALUE=DATE-TIME:20241007T070422Z
URL:https://www.molletvalles.cat/es/actualidad/agenda/exposicion-en-femeni
 no-mollet-enliate-pintando-un-futuro-feminista
END:VEVENT
END:VCALENDAR
