BEGIN:VCALENDAR
VERSION:2.0
PRODID:-//Plone.org//NONSGML plone.app.event//EN
X-WR-TIMEZONE:Europe/Madrid
BEGIN:VEVENT
SUMMARY:Exposición: GALERIAS MARINETE. ABELLÓ 100 AÑOS. Primeras exposi
 ciones de Joan Abelló en Mollet 1942-1945
DTSTART;VALUE=DATE:20230203
DTEND;VALUE=DATE:20230228
DTSTAMP;VALUE=DATE-TIME:20260421T161507Z
UID:049fd721cbfc4d7c8179c20232caf550@www.molletvalles.cat
CATEGORIES:Exposiciones
CREATED;VALUE=DATE-TIME:20230127T082240Z
DESCRIPTION:AÑO ABELLÓ
LAST-MODIFIED;VALUE=DATE-TIME:20230209T073536Z
LOCATION:La Marineta
URL:https://www.molletvalles.cat/es/actualidad/agenda/exposicion-galerias-
 marinete-abellon-100-anos-primeras-exposiciones-de-joan-abello-en-mollet-1
 942-1945
END:VEVENT
END:VCALENDAR
