BEGIN:VCALENDAR
VERSION:2.0
PRODID:-//Plone.org//NONSGML plone.app.event//EN
X-WR-TIMEZONE:Europe/Madrid
BEGIN:VEVENT
SUMMARY:Exposición: Reflejos de un pueblo y paisajes soñados"\, pinturas
  de Emilia Verde
DTSTART;VALUE=DATE:20250310
DTEND;VALUE=DATE:20250501
DTSTAMP;VALUE=DATE-TIME:20260419T162416Z
UID:4b6cd86e9b78493aaf560ca6646f7b06@www.molletvalles.cat
CATEGORIES:Exposiciones
CREATED;VALUE=DATE-TIME:20250205T111046Z
LAST-MODIFIED;VALUE=DATE-TIME:20250317T114832Z
URL:https://www.molletvalles.cat/es/actualidad/agenda/exposicion-reflejos-
 de-un-pueblo-y-paisajes-sonados-pinturas-de-emilia-verde
END:VEVENT
END:VCALENDAR
