BEGIN:VCALENDAR
VERSION:2.0
PRODID:-//Plone.org//NONSGML plone.app.event//EN
X-WR-TIMEZONE:Europe/Madrid
BEGIN:VEVENT
SUMMARY:Exposición: "Refugio. Una instalación de land art en el Parc del
 s Pinetons"
DTSTART;VALUE=DATE:20250402
DTEND;VALUE=DATE:20250602
DTSTAMP;VALUE=DATE-TIME:20260421T160449Z
UID:c1e081797593473780a26817323fbdbd@www.molletvalles.cat
CATEGORIES:Exposiciones
CREATED;VALUE=DATE-TIME:20250401T125433Z
LAST-MODIFIED;VALUE=DATE-TIME:20250415T071455Z
LOCATION:Vestíbulo del Museo Abelló
URL:https://www.molletvalles.cat/es/actualidad/agenda/exposicion-refugio-u
 na-instalacion-de-land-art-en-el-parc-dels-pinetons
END:VEVENT
END:VCALENDAR
