BEGIN:VCALENDAR
VERSION:2.0
PRODID:-//Plone.org//NONSGML plone.app.event//EN
X-WR-TIMEZONE:Europe/Madrid
BEGIN:VEVENT
SUMMARY:Exposición: ¡RESPIRA!
DTSTART;VALUE=DATE:20260409
DTEND;VALUE=DATE:20260518
DTSTAMP;VALUE=DATE-TIME:20260422T002337Z
UID:f96997e40c8346b7b7d7daa36d574027@www.molletvalles.cat
CATEGORIES:Exposiciones
CREATED;VALUE=DATE-TIME:20260421T091448Z
LAST-MODIFIED;VALUE=DATE-TIME:20260421T091534Z
URL:https://www.molletvalles.cat/es/actualidad/agenda/exposicion-respira
END:VEVENT
END:VCALENDAR
