BEGIN:VCALENDAR
VERSION:2.0
PRODID:-//Plone.org//NONSGML plone.app.event//EN
X-WR-TIMEZONE:Europe/Madrid
BEGIN:VEVENT
SUMMARY:Exposición: Trabajos finales de los alumnos de Asistencia al Prod
 ucto Gráfico Interactivo de la Escola Sant Gervasi
DTSTART;VALUE=DATE:20250526
DTEND;VALUE=DATE:20250627
DTSTAMP;VALUE=DATE-TIME:20260419T170308Z
UID:3ea0cbd4a28d4b25b75e584a19fc1788@www.molletvalles.cat
CATEGORIES:Exposiciones
CREATED;VALUE=DATE-TIME:20250522T094000Z
LAST-MODIFIED;VALUE=DATE-TIME:20250522T094046Z
URL:https://www.molletvalles.cat/es/actualidad/agenda/exposicion-trabajos-
 finales-de-los-alumnos-de-asistencia-al-producto-grafico-interactivo-de-la
 -escola-sant-gervasi
END:VEVENT
END:VCALENDAR
