BEGIN:VCALENDAR
VERSION:2.0
PRODID:-//Plone.org//NONSGML plone.app.event//EN
X-WR-TIMEZONE:Europe/Madrid
BEGIN:VEVENT
SUMMARY:Exposiciones en Femenino: "Existencias desvanecidas"
DTSTART;VALUE=DATE:20231124
DTEND;VALUE=DATE:20231223
DTSTAMP;VALUE=DATE-TIME:20260421T160502Z
UID:3fb1f12c440941afb029779d735faba7@www.molletvalles.cat
CATEGORIES:Exposiciones
CREATED;VALUE=DATE-TIME:20230929T082221Z
LAST-MODIFIED;VALUE=DATE-TIME:20231004T084815Z
URL:https://www.molletvalles.cat/es/actualidad/agenda/exposiciones-en-feme
 nino-existencias-desvanecidas
END:VEVENT
END:VCALENDAR
