BEGIN:VCALENDAR
VERSION:2.0
PRODID:-//Plone.org//NONSGML plone.app.event//EN
X-WR-TIMEZONE:Europe/Madrid
BEGIN:VEVENT
SUMMARY:Exposiciones en Femenino: "Las mujeres de les corts: resistencia e
 ntre rejas"\, de Mariona Ripoll
DTSTART;VALUE=DATE:20250530
DTEND;VALUE=DATE:20250705
DTSTAMP;VALUE=DATE-TIME:20260419T170411Z
UID:7a324aeb8ca14258bca8ff7d04fee0be@www.molletvalles.cat
CATEGORIES:Exposiciones
CREATED;VALUE=DATE-TIME:20250529T110558Z
LAST-MODIFIED;VALUE=DATE-TIME:20250529T110617Z
URL:https://www.molletvalles.cat/es/actualidad/agenda/exposiciones-en-feme
 nino-las-mujeres-de-les-corts-resistencia-entre-rejas-de-mariona-ripoll
END:VEVENT
END:VCALENDAR
