BEGIN:VCALENDAR
VERSION:2.0
PRODID:-//Plone.org//NONSGML plone.app.event//EN
X-WR-TIMEZONE:Europe/Madrid
BEGIN:VEVENT
SUMMARY:FERIA DE SAN PONÇ
DTSTART;VALUE=DATE:20260507
DTEND;VALUE=DATE:20260508
DTSTAMP;VALUE=DATE-TIME:20260423T172448Z
UID:1d272096b7c24ef3903bf617576c6b3e@www.molletvalles.cat
CATEGORIES:Ferias y mercados
CREATED;VALUE=DATE-TIME:20260423T104124Z
LAST-MODIFIED;VALUE=DATE-TIME:20260423T104238Z
LOCATION:Rambla Balmes
URL:https://www.molletvalles.cat/es/actualidad/agenda/feria-de-san-ponc-1
END:VEVENT
END:VCALENDAR
