BEGIN:VCALENDAR
VERSION:2.0
PRODID:-//Plone.org//NONSGML plone.app.event//EN
X-WR-TIMEZONE:Europe/Madrid
BEGIN:VEVENT
SUMMARY:Fiesta Castellera de Fiesta Mayor con los Moixanguers de Igualada 
 y Castellers de Mollet
DTSTART;TZID=Europe/Madrid;VALUE=DATE-TIME:20240818T180000
DTEND;TZID=Europe/Madrid;VALUE=DATE-TIME:20240818T190000
DTSTAMP;VALUE=DATE-TIME:20260425T121844Z
UID:381e247254e246e58b8b066efc4d2290@www.molletvalles.cat
CATEGORIES:Fiestas populares
CREATED;VALUE=DATE-TIME:20240726T105925Z
DESCRIPTION:FIESTA MAYOR 2024
LAST-MODIFIED;VALUE=DATE-TIME:20240726T111121Z
LOCATION:Plaza Prat de la Riba
URL:https://www.molletvalles.cat/es/actualidad/agenda/fiesta-castellera-de
 -fiesta-mayor-con-los-moixanguers-de-igualada-y-castellers-de-mollet
END:VEVENT
BEGIN:VTIMEZONE
TZID:Europe/Madrid
X-LIC-LOCATION:Europe/Madrid
BEGIN:DAYLIGHT
DTSTART;VALUE=DATE-TIME:20240331T030000
TZNAME:CEST
TZOFFSETFROM:+0100
TZOFFSETTO:+0200
END:DAYLIGHT
END:VTIMEZONE
END:VCALENDAR
